BEGIN:VCALENDAR
VERSION:2.0
PRODID:-//Tukios.com/
BEGIN:VEVENT
UID:6147fece-d05b-4460-bea1-9d306e36c2bb@www.sunsetmemorialpark.com
DTSTAMP:20260421T224024Z
DTSTART:20260501T160000Z
DTEND:20260501T170000Z
SUMMARY:Visitation
DESCRIPTION:
URL:https://www.sunsetmemorialpark.com/obituaries/rickie-temmis
LOCATION:Dothan Community Church 4390 Westgate Pkwy  Dothan AL 36303
GEO:31.2705241;-85.3900975
END:VEVENT
END:VCALENDAR