BEGIN:VCALENDAR
VERSION:2.0
PRODID:-//Tukios.com/
BEGIN:VEVENT
UID:b16f0fae-63d1-4d53-94c0-ec0a04301d06@www.sunsetmemorialpark.com
DTSTAMP:20260421T224136Z
DTSTART:20260501T170000Z
DTEND:20260501T180000Z
SUMMARY:Celebration of Life
DESCRIPTION:
URL:https://www.sunsetmemorialpark.com/obituaries/rickie-temmis
LOCATION:Dothan Community Church 4390 Westgate Parkway  Dothan AL 36303
GEO:31.270656;-85.3897834
END:VEVENT
END:VCALENDAR