BEGIN:VCALENDAR
VERSION:2.0
PRODID:-//Tukios.com/
BEGIN:VEVENT
UID:c1ca7809-9c11-40fa-8af7-92dae6606e7d@www.sunsetmemorialpark.com
DTSTAMP:20260423T022404Z
DTSTART:20260424T150000Z
DTEND:20260424T160000Z
SUMMARY:Graveside Service
DESCRIPTION:
URL:https://www.sunsetmemorialpark.com/obituaries/patricia-hubler
LOCATION: 1700 Barrington Road  Dothan AL 36350
GEO:31.2907685;-85.4639862
END:VEVENT
END:VCALENDAR