BEGIN:VCALENDAR
VERSION:2.0
PRODID:-//Tukios.com/
BEGIN:VEVENT
UID:05aa70bd-2078-4a19-9611-ead97a01f896@www.sunsetmemorialpark.com
DTSTAMP:20260424T214919Z
DTSTART:20260427T180000Z
DTEND:20260427T190000Z
SUMMARY:Visitation
DESCRIPTION:
URL:https://www.sunsetmemorialpark.com/obituaries/deborah-whitehead
LOCATION: 1700 Barrington Road  Dothan AL 36350
GEO:31.2907685;-85.4639862
END:VEVENT
END:VCALENDAR