BEGIN:VCALENDAR
VERSION:2.0
PRODID:-//Tukios.com/
BEGIN:VEVENT
UID:80ada2b7-a86c-49be-b4e9-8382dac97a36@www.sunsetmemorialpark.com
DTSTAMP:20260424T214213Z
DTSTART:20260427T190000Z
DTEND:20260427T200000Z
SUMMARY:Celebration of Life
DESCRIPTION:
URL:https://www.sunsetmemorialpark.com/obituaries/deborah-whitehead
LOCATION: 1700 Barrington Road  Dothan AL 36350
GEO:31.2907685;-85.4639862
END:VEVENT
END:VCALENDAR