BEGIN:VCALENDAR
VERSION:2.0
PRODID:-//Tukios.com/
BEGIN:VEVENT
UID:57b763ff-4013-40a4-bd20-5a2d3d18b796@www.sunsetmemorialpark.com
DTSTAMP:20260421T015056Z
DTSTART:20260424T220000Z
DTEND:20260425T000000Z
SUMMARY:Visitation
DESCRIPTION:
URL:https://www.sunsetmemorialpark.com/obituaries/clara-reese
LOCATION: 1700 Barrington Road  Dothan AL 36350
GEO:31.2907685;-85.4639862
END:VEVENT
END:VCALENDAR