BEGIN:VCALENDAR
VERSION:2.0
PRODID:-//Tukios.com/
BEGIN:VEVENT
UID:96cd7492-6590-4fe2-b050-70b3532c9b4c@www.sunsetmemorialpark.com
DTSTAMP:20260421T015208Z
DTSTART:20260425T160000Z
DTEND:20260425T170000Z
SUMMARY:Celebration of Life
DESCRIPTION:
URL:https://www.sunsetmemorialpark.com/obituaries/clara-reese
LOCATION:New Miranda Baptist Church 1221 Wagf Road  Dothan AL 36303
GEO:31.2499248;-85.3872929
END:VEVENT
END:VCALENDAR